BEGIN:VCALENDAR
VERSION:2.0
PRODID:-//Mingledorff&#039;s - ECPv6.15.20//NONSGML v1.0//EN
CALSCALE:GREGORIAN
METHOD:PUBLISH
X-WR-CALNAME:Mingledorff&#039;s
X-ORIGINAL-URL:https://www.mingledorffs.com
X-WR-CALDESC:Events for Mingledorff&#039;s
REFRESH-INTERVAL;VALUE=DURATION:PT1H
X-Robots-Tag:noindex
X-PUBLISHED-TTL:PT1H
BEGIN:VTIMEZONE
TZID:America/New_York
BEGIN:DAYLIGHT
TZOFFSETFROM:-0500
TZOFFSETTO:-0400
TZNAME:EDT
DTSTART:20250309T070000
END:DAYLIGHT
BEGIN:STANDARD
TZOFFSETFROM:-0400
TZOFFSETTO:-0500
TZNAME:EST
DTSTART:20251102T060000
END:STANDARD
BEGIN:DAYLIGHT
TZOFFSETFROM:-0500
TZOFFSETTO:-0400
TZNAME:EDT
DTSTART:20260308T070000
END:DAYLIGHT
BEGIN:STANDARD
TZOFFSETFROM:-0400
TZOFFSETTO:-0500
TZNAME:EST
DTSTART:20261101T060000
END:STANDARD
BEGIN:DAYLIGHT
TZOFFSETFROM:-0500
TZOFFSETTO:-0400
TZNAME:EDT
DTSTART:20270314T070000
END:DAYLIGHT
BEGIN:STANDARD
TZOFFSETFROM:-0400
TZOFFSETTO:-0500
TZNAME:EST
DTSTART:20271107T060000
END:STANDARD
END:VTIMEZONE
BEGIN:VEVENT
DTSTART;TZID=America/New_York:20260326T150000
DTEND;TZID=America/New_York:20260326T190000
DTSTAMP:20260422T104438
CREATED:20260310T212410Z
LAST-MODIFIED:20260320T050920Z
UID:10000711-1774537200-1774551600@www.mingledorffs.com
SUMMARY:Hardeeville Spring Service Updates
DESCRIPTION:Hardeeville Spring Service Updates\nLink to register\nCost: $0\nEvent Flyer\nCan I earn CEUs for this class? Yes\nCan I earn NATE hours for this class? Yes\nIs this class eligible for FAD training hours? Yes\nEarn 4 FAD Distributor Credit hours\nEarn 0 FAD Factory Credit hours\nWill food be served?: No
URL:https://www.mingledorffs.com/event/hardeeville-spring-service-updates-2/
LOCATION:Southeast 132 Red Oaks Ln Ridgeland\, Ridgeland\, SC\, United States
GEO:32.459634;-80.896497
END:VEVENT
BEGIN:VEVENT
DTSTART;TZID=America/New_York:20260325T160000
DTEND;TZID=America/New_York:20260325T200000
DTSTAMP:20260422T104438
CREATED:20260310T212403Z
LAST-MODIFIED:20260320T050919Z
UID:10000710-1774454400-1774468800@www.mingledorffs.com
SUMMARY:Hardeeville Spring Service Updates
DESCRIPTION:Hardeeville Spring Service Updates\nLink to register\nCost: $0\nEvent Flyer\nCan I earn CEUs for this class? Yes\nCan I earn NATE hours for this class? Yes\nIs this class eligible for FAD training hours? Yes\nEarn 4 FAD Distributor Credit hours\nEarn 0 FAD Factory Credit hours\nWill food be served?: No
URL:https://www.mingledorffs.com/event/hardeeville-spring-service-updates/
LOCATION:Southeast 132 Red Oaks Ln Ridgeland\, Ridgeland\, SC\, United States
GEO:32.459634;-80.896497
END:VEVENT
END:VCALENDAR